BEGIN:VCALENDAR
VERSION:2.0
PRODID:gruene-zollernalb.de
METHOD:PUBLISH
BEGIN:VTIMEZONE
TZID:Europe/Berlin
X-LIC-LOCATION:Europe/Berlin
BEGIN:DAYLIGHT
TZOFFSETFROM:+0100
TZOFFSETTO:+0200
TZNAME:CEST
DTSTART:19700329T020000
RRULE:FREQ=YEARLY;INTERVAL=1;BYDAY=-1SU;BYMONTH=3
END:DAYLIGHT
BEGIN:STANDARD
TZOFFSETFROM:+0200
TZOFFSETTO:+0100
TZNAME:CET
DTSTART:19701025T030000
RRULE:FREQ=YEARLY;INTERVAL=1;BYDAY=-1SU;BYMONTH=10
END:STANDARD
END:VTIMEZONE
BEGIN:VEVENT
UID:bad6da43e722509e7c4a40ee97a15a3a@gruene-zollernalb.de
URL;VALUE=URI:https://gruene-zollernalb.de/termine/sitzung-beirat-soziale
 s-in-ebingen/
LOCATION:Safran, Johannesstr. 14, Ebingen
SUMMARY:Sitzung Beirat Soziales in Ebingen
DESCRIPTION;ALTREP="data:text/html,%0A%3Cp%3EDer%20Beirat%20Soziales%20l%
 C3%A4dt%20zur%20n%C3%A4chsten%20Sitzung%20ein.%20Diese%20findet%20am%C2%A
 0%3Cstrong%3E28.%20April%202026%20um%2018%3A30%20Uhr%3C%2Fstrong%3E%C2%A0
 im%20Safran%20in%20Ebingen%20statt.%3C%2Fp%3E%0A%0A%0A%0A%3Cp%3EAuf%20der
 %20Tagesordnung%20stehen%3A%3C%2Fp%3E%0A%0A%0A%0A%3Cul%20class%3D%22wp-bl
 ock-list%22%3E%0A%3Cli%3ER%C3%BCckblick%20auf%20die%20Veranstaltungen%20z
 um%20Weltfrauentag%3C%2Fli%3E%0A%0A%0A%0A%3Cli%3ESammlung%20von%20Themen%
 20und%20Ideen%20f%C3%BCr%20die%20Jahre%202026%2F2027%3C%2Fli%3E%0A%3C%2Fu
 l%3E%0A%0A%0A%0A%3Cp%3EInteressierte%20sind%20herzlich%20eingeladen%2C%20
 teilzunehmen.%3C%2Fp%3E%0A%0A%0A%0A%3Cp%3E%3C%2Fp%3E%0A":Der Beirat Sozia
 les lädt zur nächsten Sitzung ein. Diese findet am 28. April 2026 um 1
 8:30 Uhr im Safran in Ebingen statt.\n\nAuf der Tagesordnung stehen:\n\n
 Rückblick auf die Veranstaltungen zum Weltfrauentag\n\nSammlung von Them
 en und Ideen für die Jahre 2026/2027\n\nInteressierte sind herzlich eing
 eladen\, teilzunehmen.
CLASS:PUBLIC
DTSTART;TZID=Europe/Berlin:20260428T183000
DTEND;TZID=Europe/Berlin:20260428T193000
DTSTAMP:20260422T142014
END:VEVENT
END:VCALENDAR