BEGIN:VCALENDAR
VERSION:2.0
PRODID:gruene-zollernalb.de
METHOD:PUBLISH
BEGIN:VTIMEZONE
TZID:Europe/Berlin
X-LIC-LOCATION:Europe/Berlin
BEGIN:DAYLIGHT
TZOFFSETFROM:+0100
TZOFFSETTO:+0200
TZNAME:CEST
DTSTART:19700329T020000
RRULE:FREQ=YEARLY;INTERVAL=1;BYDAY=-1SU;BYMONTH=3
END:DAYLIGHT
BEGIN:STANDARD
TZOFFSETFROM:+0200
TZOFFSETTO:+0100
TZNAME:CET
DTSTART:19701025T030000
RRULE:FREQ=YEARLY;INTERVAL=1;BYDAY=-1SU;BYMONTH=10
END:STANDARD
END:VTIMEZONE
BEGIN:VEVENT
UID:e9681ecb2d5d411bb30d9ceada083872@gruene-zollernalb.de
URL;VALUE=URI:https://gruene-zollernalb.de/termine/hechingen-neue-streuob
 stkonzeption-austausch-ideen/
LOCATION:Stadthallemuseum Hechingen, Zollernstraße 2, Hechingen
SUMMARY:Hechingen: Neue Streuobstkonzeption Austausch & Ideen
DESCRIPTION;ALTREP="data:text/html,%0A%3Cfigure%20class%3D%22wp-block-ima
 ge%20size-full%22%3E%3Cimg%20src%3D%22https%3A%2F%2Fgruene-zollernalb.de%
 2Fwp-content%2Fuploads%2Fsites%2F130%2F2025%2F04%2Fimage.png%22%20alt%3D%
 22%22%20class%3D%22wp-image-5710%22%20%2F%3E%3C%2Ffigure%3E%0A":
CLASS:PUBLIC
DTSTART;TZID=Europe/Berlin:20250407T193000
DTEND;TZID=Europe/Berlin:20250407T203000
DTSTAMP:20260422T020018
END:VEVENT
END:VCALENDAR