BEGIN:VCALENDAR
VERSION:2.0
PRODID:gruene-zollernalb.de
METHOD:PUBLISH
BEGIN:VTIMEZONE
TZID:Europe/Berlin
X-LIC-LOCATION:Europe/Berlin
BEGIN:DAYLIGHT
TZOFFSETFROM:+0100
TZOFFSETTO:+0200
TZNAME:CEST
DTSTART:19700329T020000
RRULE:FREQ=YEARLY;INTERVAL=1;BYDAY=-1SU;BYMONTH=3
END:DAYLIGHT
BEGIN:STANDARD
TZOFFSETFROM:+0200
TZOFFSETTO:+0100
TZNAME:CET
DTSTART:19701025T030000
RRULE:FREQ=YEARLY;INTERVAL=1;BYDAY=-1SU;BYMONTH=10
END:STANDARD
END:VTIMEZONE
BEGIN:VEVENT
UID:2a6782e9eccbedbf1519dd57e4e5433e@gruene-zollernalb.de
URL;VALUE=URI:https://gruene-zollernalb.de/termine/gruener-stammtisch-dez
 ember-baeren/
LOCATION:Bären Balingen, Eberstr. 17, Balingen
SUMMARY:Grüner Stammtisch – OV Balingen 12/2024
DESCRIPTION;ALTREP="data:text/html,%0A%3Cp%3EN%C3%A4chste%20Gelegenheit%2
 0sich%20kennenzulernen%20und%20in%20gem%C3%BCtlicher%20Atmosph%C3%A4re%20
 %C3%BCber%20Gr%C3%BCne%20Themen%20zu%20diskutieren.%20Herzlich%20eingelad
 en%20sind%20alle%20Mitglieder%2Ainnen%2C%20aber%20auch%20alle%20Interessi
 erte%20an%20Gr%C3%BCnen%20Themen.%20Wir%20treffen%20uns%20ab%2019.30%20Uh
 r%20im%20B%C3%A4ren%C2%A0Balingen.%3C%2Fp%3E%0A%0A%0A%0A%3Ch2%20class%3D%
 22wp-block-heading%22%3EWann%3C%2Fh2%3E%0A%0A%0A%0A%3Cp%3E29.12.2024%2019
 %3A30%20Uhr%3C%2Fp%3E%0A%0A%0A%0A%3Ch2%20class%3D%22wp-block-heading%22%3
 EWo%3C%2Fh2%3E%0A%0A%0A%0A%3Cp%3EB%C3%A4ren%20Balingen%2C%20Ebertstr.%201
 7%2C%2072336%20Balingen%3C%2Fp%3E%0A%0A%0A%0A%3Cp%3E%3C%2Fp%3E%0A":Nächs
 te Gelegenheit sich kennenzulernen und in gemütlicher Atmosphäre über 
 Grüne Themen zu diskutieren. Herzlich eingeladen sind alle Mitglieder*in
 nen\, aber auch alle Interessierte an Grünen Themen. Wir treffen uns ab 
 19.30 Uhr im Bären Balingen.\n\nWann\n\n29.12.2024 19:30 Uhr\n\nWo\n\nB
 ären Balingen\, Ebertstr. 17\, 72336 Balingen
CLASS:PUBLIC
DTSTART;TZID=Europe/Berlin:20241229T193000
DTEND;TZID=Europe/Berlin:20241229T203000
DTSTAMP:20260425T191512
END:VEVENT
END:VCALENDAR