BEGIN:VCALENDAR
VERSION:2.0
PRODID:gruene-zollernalb.de
METHOD:PUBLISH
BEGIN:VTIMEZONE
TZID:Europe/Berlin
X-LIC-LOCATION:Europe/Berlin
BEGIN:DAYLIGHT
TZOFFSETFROM:+0100
TZOFFSETTO:+0200
TZNAME:CEST
DTSTART:19700329T020000
RRULE:FREQ=YEARLY;INTERVAL=1;BYDAY=-1SU;BYMONTH=3
END:DAYLIGHT
BEGIN:STANDARD
TZOFFSETFROM:+0200
TZOFFSETTO:+0100
TZNAME:CET
DTSTART:19701025T030000
RRULE:FREQ=YEARLY;INTERVAL=1;BYDAY=-1SU;BYMONTH=10
END:STANDARD
END:VTIMEZONE
BEGIN:VEVENT
UID:9d3320c48e1332bda75b2f4a66c0060a@gruene-zollernalb.de
URL;VALUE=URI:https://gruene-zollernalb.de/termine/digitalisierung-unsere
 r-partei/
LOCATION:
SUMMARY:„Professionalisierung“ unserer Partei
DESCRIPTION;ALTREP="data:text/html,%0A%3Cp%3E%3Cimg%20class%3D%22wp-image
 -1327%22%20style%3D%22width%3A%20700px%22%20src%3D%22https%3A%2F%2Fgruene
 -zollernalb.de%2Fwp-content%2Fuploads%2Fsites%2F130%2F2023%2F01%2FDie-Gru
 enen-Banner.png%22%20alt%3D%22%22%3E%3C%2Fp%3E%0A%0A%0A%0A%3Cp%3EDas%20Th
 ema%20%22Professionelle%20Digitalisierung%20und%20Komminakation%20innerha
 lb%20unserer%20Partei%22%20%22%20nimmt%20%28nach%20meiner%20Wahrnehmung%2
 9%20z.Z.%20nicht%20gen%C3%BCgend%20Raum%20ein.%3C%2Fp%3E%0A%0A%0A%0A%3Cp%
 3EDie%20Baden-W%C3%BCrttembergische%20Landesarbeitsgemeinschaft%20untergr
 uppe%20%22Digitalisierung%20der%20Partei%22%20wird%20zu%20diesem%20Thema%
 20am%2031.%20Januar%202023%20um%2020%3A00%20Uhr%20w%C3%A4hrend%20einer%20
 Onlinediskussion%20dazu%20Stellung%20nehmen%20und%20verschiedene%20L%C3%B
 6sungsvorschl%C3%A4ge%20diskutieren.%3C%2Fp%3E%0A%0A%0A%0A%3Cp%3EWer%20an
 %20dieser%20Diskussion%20teilnehmen%20m%C3%B6chte%20kann%20sich%20bei%20m
 ir%20pers%C3%B6nlich%20melden.%20%3Ca%20href%3D%22mailto%3Anwakefield%40t
 -online.de%22%3E%5BEmail%20Link%5D%3C%2Fa%3E%3C%2Fp%3E%0A%0A%0A%0A%3Cp%3E
 %3Cstrong%3EDokument%20dazu%3A%3C%2Fstrong%3E%3Cimg%20class%3D%22wp-image
 -1464%22%20style%3D%22width%3A%2030px%22%20src%3D%22https%3A%2F%2Fgruene-
 zollernalb.de%2Fwp-content%2Fuploads%2Fsites%2F130%2F2023%2F01%2Ficon-.-c
 hain-link-icon-free-vector.jpg%22%20alt%3D%22%22%3E%20%5B%3Ca%20rel%3D%22
 noreferrer%20noopener%22%20href%3D%22https%3A%2F%2Fdocs.google.com%2Fdocu
 ment%2Fd%2F1EFoBxg6mIepYgyw425lvgQPD1Ym_haVd%2Fedit%3Fusp%3Dsharing%26amp
 %3Bouid%3D113424678870749225225%26amp%3Brtpof%3Dtrue%26amp%3Bsd%3Dtruehtt
 ps%3A%2F%2Fdocs.google.com%2Fdocument%2Fd%2F1EFoBxg6mIepYgyw425lvgQPD1Ym_
 haVd%2Fedit%3Fusp%3Dsharing%26amp%3Bouid%3D113424678870749225225%26amp%3B
 rtpof%3Dtrue%26amp%3Bsd%3Dtrue%22%20target%3D%22_blank%22%3EDokument%20Li
 nk%3C%2Fa%3E%5D%20%3C%2Fp%3E%0A":Das Thema "Professionelle Digitalisierun
 g und Komminakation innerhalb unserer Partei" " nimmt (nach meiner Wahrne
 hmung) z.Z. nicht genügend Raum ein.\n\nDie Baden-Württembergische Land
 esarbeitsgemeinschaft untergruppe "Digitalisierung der Partei" wird zu di
 esem Thema am 31. Januar 2023 um 20:00 Uhr während einer Onlinediskussio
 n dazu Stellung nehmen und verschiedene Lösungsvorschläge diskutieren.\
 n\nWer an dieser Diskussion teilnehmen möchte kann sich bei mir persönl
 ich melden. [Email Link]\n\nDokument dazu: [Dokument Link]
CLASS:PUBLIC
DTSTART;TZID=Europe/Berlin:20230131T200000
DTEND;TZID=Europe/Berlin:20230131T210000
DTSTAMP:20260425T191512
END:VEVENT
END:VCALENDAR