BEGIN:VCALENDAR
VERSION:2.0
PRODID:gruene-zollernalb.de
METHOD:PUBLISH
BEGIN:VTIMEZONE
TZID:Europe/Berlin
X-LIC-LOCATION:Europe/Berlin
BEGIN:DAYLIGHT
TZOFFSETFROM:+0100
TZOFFSETTO:+0200
TZNAME:CEST
DTSTART:19700329T020000
RRULE:FREQ=YEARLY;INTERVAL=1;BYDAY=-1SU;BYMONTH=3
END:DAYLIGHT
BEGIN:STANDARD
TZOFFSETFROM:+0200
TZOFFSETTO:+0100
TZNAME:CET
DTSTART:19701025T030000
RRULE:FREQ=YEARLY;INTERVAL=1;BYDAY=-1SU;BYMONTH=10
END:STANDARD
END:VTIMEZONE
BEGIN:VEVENT
UID:f551a4d095cd4359d50ff853e1f49dc9@gruene-zollernalb.de
URL;VALUE=URI:https://gruene-zollernalb.de/termine/balingen-1-mai-dgb-mai
 feier-kundgebung/
LOCATION:Marktplatz Balingen, Balingen
SUMMARY:Balingen: 1. Mai DGB Maifeier & Kundgebung
DESCRIPTION;ALTREP="data:text/html,%0A%3Cp%3EAm%201.%20Mai%20findet%20in%
 20Balingen%20ab%2010%3A00%20Uhr%20eine%20Maifeier%20%26amp%3B%20Kundgebun
 g.%20Treffpunkt%20ist%20der%20Balinger%20Marktplatz.%20Daraufhin%20erfolg
 t%20ein%20Spaziergang%20zum%20Naturfreundehaus.%20Ab%2011%3A00%20Start%20
 am%20Naturfreundehaus%20die%20Feier%20und%20Kundgebung%20mit%20Redebeitr%
 C3%A4gen%20und%20Akustik-Rock.%3C%2Fp%3E%0A%0A%0A%0A%3Cp%3E%3C%2Fp%3E%0A%
 0A%0A%0A%3Cp%3E%3C%2Fp%3E%0A":Am 1. Mai findet in Balingen ab 10:00 Uhr e
 ine Maifeier & Kundgebung. Treffpunkt ist der Balinger Marktplatz. Darauf
 hin erfolgt ein Spaziergang zum Naturfreundehaus. Ab 11:00 Start am Natur
 freundehaus die Feier und Kundgebung mit Redebeiträgen und Akustik-Rock.
CLASS:PUBLIC
DTSTART;TZID=Europe/Berlin:20250501T100000
DTEND;TZID=Europe/Berlin:20250501T110000
DTSTAMP:20260421T104750
END:VEVENT
END:VCALENDAR